BEGIN:VCALENDAR
VERSION:2.0
PRODID:-//ChamberMaster//Event Calendar 2.0//EN
METHOD:PUBLISH
X-PUBLISHED-TTL:P3D
REFRESH-INTERVAL:P3D
CALSCALE:GREGORIAN
BEGIN:VEVENT
DTSTART:20151119T173000Z
DTEND:20151119T190000Z
X-MICROSOFT-CDO-ALLDAYEVENT:FALSE
SUMMARY:Monthly Member Luncheon
DESCRIPTION:This month's speaker will be\, Danan Hughes\, former wide receiver for the Kansas City Chiefs.
X-ALT-DESC;FMTTYPE=text/html:This month&#39\;s speaker will be\, Danan Hughes\, former wide receiver for the Kansas City Chiefs.
LOCATION:Harvest Productions 1340 Burlington North Kansas City\, MO 64116
UID:e.211.4325
SEQUENCE:3
DTSTAMP:20260424T034527Z
URL:https://members.nkcbusinesscouncil.com/events/details/monthly-member-luncheon-11-19-2015-4325
END:VEVENT

END:VCALENDAR
