BEGIN:VCALENDAR
VERSION:2.0
PRODID:-//ChamberMaster//Event Calendar 2.0//EN
METHOD:PUBLISH
X-PUBLISHED-TTL:P3D
REFRESH-INTERVAL:P3D
CALSCALE:GREGORIAN
BEGIN:VEVENT
DTSTART:20161117T173000Z
DTEND:20161117T190000Z
X-MICROSOFT-CDO-ALLDAYEVENT:FALSE
SUMMARY:Monthly Member Luncheon
DESCRIPTION:This month will be held at iWerx co-working space.
X-ALT-DESC;FMTTYPE=text/html:This month will be held at iWerx&nbsp\;co-working space.
LOCATION:iWerx 1520 Clay North Kansas City\, MO 64116
UID:e.211.4709
SEQUENCE:3
DTSTAMP:20260422T191848Z
URL:https://members.nkcbusinesscouncil.com/events/details/monthly-member-luncheon-11-17-2016-4709
END:VEVENT

END:VCALENDAR
