BEGIN:VCALENDAR
VERSION:2.0
PRODID:-//ChamberMaster//Event Calendar 2.0//EN
METHOD:PUBLISH
X-PUBLISHED-TTL:P3D
REFRESH-INTERVAL:P3D
CALSCALE:GREGORIAN
BEGIN:VEVENT
DTSTART:20161027T163000Z
DTEND:20161027T180000Z
X-MICROSOFT-CDO-ALLDAYEVENT:FALSE
SUMMARY:Monthly Member Luncheon
DESCRIPTION:This month will be the State of the City.
X-ALT-DESC;FMTTYPE=text/html:This month will be the State of the City.
LOCATION:NKC Fire Station 1815 Howell North Kansas City\, MO 64116
UID:e.211.4708
SEQUENCE:3
DTSTAMP:20260422T235903Z
URL:https://members.nkcbusinesscouncil.com/events/details/monthly-member-luncheon-10-27-2016-4708
END:VEVENT

END:VCALENDAR
