BEGIN:VCALENDAR
VERSION:2.0
PRODID:-//ChamberMaster//Event Calendar 2.0//EN
METHOD:PUBLISH
X-PUBLISHED-TTL:P3D
REFRESH-INTERVAL:P3D
CALSCALE:GREGORIAN
BEGIN:VEVENT
DTSTART:20181025T163000Z
DTEND:20181025T180000Z
X-MICROSOFT-CDO-ALLDAYEVENT:FALSE
SUMMARY:Monthly Member Luncheon
DESCRIPTION:This month\, City of North Kansas City staff will be making a State of the City presentation.
X-ALT-DESC;FMTTYPE=text/html:This month\, City of North Kansas City staff will be making a State of the City presentation.
LOCATION:Fire Station #1 1815 Howell North Kansas City\, MO 64116
UID:e.211.5402
SEQUENCE:3
DTSTAMP:20260421T101819Z
URL:https://members.nkcbusinesscouncil.com/events/details/monthly-member-luncheon-10-25-2018-5402
END:VEVENT

END:VCALENDAR
