BEGIN:VCALENDAR
VERSION:2.0
PRODID:-//ChamberMaster//Event Calendar 2.0//EN
METHOD:PUBLISH
X-PUBLISHED-TTL:P3D
REFRESH-INTERVAL:P3D
CALSCALE:GREGORIAN
BEGIN:VEVENT
DTSTART:20151022T163000Z
DTEND:20151022T180000Z
X-MICROSOFT-CDO-ALLDAYEVENT:FALSE
SUMMARY:Monthly Member Luncheon
DESCRIPTION:This month's luncheon will be at North Kansas City Fire Station #1. We will have a delicious chili lunch prepared by the "hottest" fire fighters around. We will also have presentations by the Fire and Police Departments.
X-ALT-DESC;FMTTYPE=text/html:This month&#39\;s luncheon will be at North Kansas City Fire Station #1. We will have a delicious chili lunch prepared by the &quot\;hottest&quot\; fire fighters around. We will also have presentations by the Fire and Police Departments.
LOCATION:NKC Fire Station #1 1815 Howell North Kansas City\, MO 64116
UID:e.211.4324
SEQUENCE:3
DTSTAMP:20260424T050014Z
URL:https://members.nkcbusinesscouncil.com/events/details/monthly-member-luncheon-10-22-2015-4324
END:VEVENT

END:VCALENDAR
