BEGIN:VCALENDAR
VERSION:2.0
PRODID:-//ChamberMaster//Event Calendar 2.0//EN
METHOD:PUBLISH
X-PUBLISHED-TTL:P3D
REFRESH-INTERVAL:P3D
CALSCALE:GREGORIAN
BEGIN:VEVENT
DTSTART:20150924T163000Z
DTEND:20150924T180000Z
X-MICROSOFT-CDO-ALLDAYEVENT:FALSE
SUMMARY:Monthly Member Luncheon
DESCRIPTION:This month we will be celebrating new and updated businesses in North Kansas City at our Recognition Awards. Join us to see some of the great improvements being made in our city.
X-ALT-DESC;FMTTYPE=text/html:This month we will be celebrating new and updated businesses in North Kansas City at our Recognition Awards. Join us to see some of the great improvements being made in our city.
LOCATION:Black on Burlington 1327 Burlington North Kansas City\, MO 64116
UID:e.211.4323
SEQUENCE:3
DTSTAMP:20260424T061726Z
URL:https://members.nkcbusinesscouncil.com/events/details/monthly-member-luncheon-09-24-2015-4323
END:VEVENT

END:VCALENDAR
