BEGIN:VCALENDAR
VERSION:2.0
PRODID:-//ChamberMaster//Event Calendar 2.0//EN
METHOD:PUBLISH
X-PUBLISHED-TTL:P3D
REFRESH-INTERVAL:P3D
CALSCALE:GREGORIAN
BEGIN:VEVENT
DTSTART:20160922T163000Z
DTEND:20160922T180000Z
X-MICROSOFT-CDO-ALLDAYEVENT:FALSE
SUMMARY:Monthly Member Luncheon
DESCRIPTION:This month will be the presentation of the 2016 Recognition Awards.
X-ALT-DESC;FMTTYPE=text/html:This month will be the presentation of the 2016 Recognition Awards.
LOCATION:Black on Burlington 1327 Burlington North Kansas City\, MO 64116
UID:e.211.4707
SEQUENCE:3
DTSTAMP:20260423T000008Z
URL:https://members.nkcbusinesscouncil.com/events/details/monthly-member-luncheon-09-22-2016-4707
END:VEVENT

END:VCALENDAR
