BEGIN:VCALENDAR
VERSION:2.0
PRODID:-//ChamberMaster//Event Calendar 2.0//EN
METHOD:PUBLISH
X-PUBLISHED-TTL:P3D
REFRESH-INTERVAL:P3D
CALSCALE:GREGORIAN
BEGIN:VEVENT
DTSTART:20150827T163000Z
DTEND:20150827T180000Z
X-MICROSOFT-CDO-ALLDAYEVENT:FALSE
SUMMARY:Monthly Member Luncheon
DESCRIPTION:This month is our Member Appreciation Day at The K.\n\nJoin us in reserving your All-You-Can-Eat seat in the Loge section as we enjoy an afternoon game to watch the Royals take on the Orioles.\n\nWe have a limited number of seats and parking passes so sign up today!
X-ALT-DESC;FMTTYPE=text/html:This month is our Member Appreciation Day at The K.<br />\nJoin us in reserving your All-You-Can-Eat seat in the Loge section as we enjoy an afternoon game to watch the Royals take on the Orioles.<br />\nWe have a limited number of seats and parking passes so sign up today!
LOCATION:Kauffman Stadium 1 Royal Way Kansas City\, MO 64129
UID:e.211.4322
SEQUENCE:3
DTSTAMP:20260424T071852Z
URL:https://members.nkcbusinesscouncil.com/events/details/monthly-member-luncheon-08-27-2015-4322
END:VEVENT

END:VCALENDAR
