BEGIN:VCALENDAR
VERSION:2.0
PRODID:-//ChamberMaster//Event Calendar 2.0//EN
METHOD:PUBLISH
X-PUBLISHED-TTL:P3D
REFRESH-INTERVAL:P3D
CALSCALE:GREGORIAN
BEGIN:VEVENT
DTSTART:20160825T163000Z
DTEND:20160825T180000Z
X-MICROSOFT-CDO-ALLDAYEVENT:FALSE
SUMMARY:Monthly Member Luncheon
DESCRIPTION:This month's speaker will be\, Amy Leslie of Perspective Consulting.\nWere they dead when you hired them\, or did you kill them?\n\nWhy do some people who you think are going to be "rockstars" in interviews turn out to be "rocks"? Have you ever hired people that you could not wait to get on board\, and a few months later you could not get rid of them fast enough?\n\nWhat happened? Was it you? Was it them? Was it something else?\n\nLearn some practical instruments and methodologies for every phase of your human capital management strategy: REQUIRE - HIRE - INSPIRE.
X-ALT-DESC;FMTTYPE=text/html:This month&#39\;s speaker will be\, Amy Leslie of Perspective Consulting.\n<p><b><span style="font-size:16.0pt\;color:#E60028">Were they dead when you hired them\, or did you kill them?</span></b><span style="font-size:9.5pt"><o:p></o:p></span></p>\n\n<p><span style="font-size:11.0pt\;font-family:&quot\;Calibri&quot\;\,&quot\;sans-serif&quot\;">Why do some people who you think are going to be &ldquo\;rockstars&rdquo\; in interviews turn out to be &ldquo\;rocks&rdquo\;?&nbsp\;Have you ever hired people that you could not wait to get on board\, and a few months later you could not get rid of them fast enough?</span><span style="font-size:9.5pt"><o:p></o:p></span></p>\n\n<p><i><span style="font-size:11.0pt\;font-family:&quot\;Calibri&quot\;\,&quot\;sans-serif&quot\;">What happened? Was it you? Was it them? Was it something else?</span></i><span style="font-size:9.5pt"><o:p></o:p></span></p>\n\n<p><span style="font-size:11.0pt\;font-family:&quot\;Calibri&quot\;\,&quot\;sans-serif&quot\;">Learn some practical instruments and methodologies for every phase of your human capital management strategy: REQUIRE - HIRE - INSPIRE.</span><o:p></o:p></p>\n
LOCATION:Black on Burlington 1327 Burlington North Kansas City\, MO 64116
UID:e.211.4706
SEQUENCE:3
DTSTAMP:20260423T071245Z
URL:https://members.nkcbusinesscouncil.com/events/details/monthly-member-luncheon-08-25-2016-4706
END:VEVENT

END:VCALENDAR
