BEGIN:VCALENDAR
VERSION:2.0
PRODID:-//ChamberMaster//Event Calendar 2.0//EN
METHOD:PUBLISH
X-PUBLISHED-TTL:P3D
REFRESH-INTERVAL:P3D
CALSCALE:GREGORIAN
BEGIN:VEVENT
DTSTART:20170824T163000Z
DTEND:20170824T180000Z
X-MICROSOFT-CDO-ALLDAYEVENT:FALSE
SUMMARY:Monthly Member Luncheon
DESCRIPTION:This month's speaker will be John Hassler\, a Director with Business Council member Newmark Grubb Zimmer Commercial Real Estate.\n\n\n\nThe topic is "Insights About Commercial Property Trends Affecting North Kansas City"
X-ALT-DESC;FMTTYPE=text/html:This month&#39\;s speaker will be&nbsp\;John Hassler\, a Director with Business Council member Newmark Grubb Zimmer Commercial Real Estate.<br />\n<br />\nThe topic is &ldquo\;Insights About Commercial Property Trends Affecting North Kansas City&rdquo\;
LOCATION:Black on Burlington 1327 Burlington North Kansas City\, MO 64116
UID:e.211.5173
SEQUENCE:3
DTSTAMP:20260419T123612Z
URL:https://members.nkcbusinesscouncil.com/events/details/monthly-member-luncheon-08-24-2017-5173
END:VEVENT

END:VCALENDAR
