BEGIN:VCALENDAR
VERSION:2.0
PRODID:-//ChamberMaster//Event Calendar 2.0//EN
METHOD:PUBLISH
X-PUBLISHED-TTL:P3D
REFRESH-INTERVAL:P3D
CALSCALE:GREGORIAN
BEGIN:VEVENT
DTSTART:20170727T163000Z
DTEND:20170727T180000Z
X-MICROSOFT-CDO-ALLDAYEVENT:FALSE
SUMMARY:Monthly Member Luncheon
DESCRIPTION:This month's speaker will be Darren Hennan will be speaking on the KCI airport issues and plans.
X-ALT-DESC;FMTTYPE=text/html:This month&#39\;s speaker will be Darren Hennan will be speaking on the KCI airport issues and plans.
LOCATION:Black on Burlington 1327 Burlington North Kansas City\, MO 64116
UID:e.211.5172
SEQUENCE:3
DTSTAMP:20260419T123432Z
URL:https://members.nkcbusinesscouncil.com/events/details/monthly-member-luncheon-07-27-2017-5172
END:VEVENT

END:VCALENDAR
