BEGIN:VCALENDAR
VERSION:2.0
PRODID:-//ChamberMaster//Event Calendar 2.0//EN
METHOD:PUBLISH
X-PUBLISHED-TTL:P3D
REFRESH-INTERVAL:P3D
CALSCALE:GREGORIAN
BEGIN:VEVENT
DTSTART:20150723T163000Z
DTEND:20150723T180000Z
X-MICROSOFT-CDO-ALLDAYEVENT:FALSE
SUMMARY:Monthly Member Luncheon
DESCRIPTION:This month's speaker will be\, Sam Porritt of the  Falling Forward Foundation.
X-ALT-DESC;FMTTYPE=text/html:<span style="font-size: 14px\;">This month&#39\;s speaker will be\, <span style="font-family: &quot\;Calibri&quot\;\,&quot\;sans-serif&quot\;\; mso-fareast-font-family: Calibri\; mso-fareast-theme-font: minor-latin\; mso-bidi-font-family: &quot\;Times New Roman&quot\;\; mso-ansi-language: EN-US\; mso-fareast-language: EN-US\; mso-bidi-language: AR-SA\;">Sam Porritt&nbsp\;of the &nbsp\;Falling Forward Foundation. </span></span>
LOCATION:Black on Burlington 1327 Burlington North Kansas City\, MO 64116
UID:e.211.4321
SEQUENCE:3
DTSTAMP:20260424T083410Z
URL:https://members.nkcbusinesscouncil.com/events/details/monthly-member-luncheon-07-23-2015-4321
END:VEVENT

END:VCALENDAR
