BEGIN:VCALENDAR
VERSION:2.0
PRODID:-//ChamberMaster//Event Calendar 2.0//EN
METHOD:PUBLISH
X-PUBLISHED-TTL:P3D
REFRESH-INTERVAL:P3D
CALSCALE:GREGORIAN
BEGIN:VEVENT
DTSTART:20150625T163000Z
DTEND:20150625T180000Z
X-MICROSOFT-CDO-ALLDAYEVENT:FALSE
SUMMARY:Monthly Member Luncheon
DESCRIPTION:This month's speaker will be\, Jim McGraw the former chief operating officer\, corporate officer and board member of pharmaceutical firm Marion Laboratories\, and former Chairman of the Ewing Marion Kauffman Foundation Board of Directors\, a leading voice for quality education\, entrepreneurism and free enterprise. He will be talking about "Leadership\, Empathy & the Power of Persuasion."
X-ALT-DESC;FMTTYPE=text/html:This month&#39\;s speaker will be\, Jim McGraw&nbsp\;the former chief operating officer\, corporate officer and board member of pharmaceutical firm Marion Laboratories\, and former Chairman of the Ewing Marion Kauffman Foundation Board of Directors\, a leading voice for quality education\, entrepreneurism and free enterprise. He will be talking about &quot\;Leadership\, Empathy &amp\; the Power of Persuasion.&quot\;
LOCATION:Black on Burlington 1327 Burlington North Kansas City\, MO 64116
UID:e.211.4320
SEQUENCE:3
DTSTAMP:20260424T094837Z
URL:https://members.nkcbusinesscouncil.com/events/details/monthly-member-luncheon-06-25-2015-4320
END:VEVENT

END:VCALENDAR
