BEGIN:VCALENDAR
VERSION:2.0
PRODID:-//ChamberMaster//Event Calendar 2.0//EN
METHOD:PUBLISH
X-PUBLISHED-TTL:P3D
REFRESH-INTERVAL:P3D
CALSCALE:GREGORIAN
BEGIN:VEVENT
DTSTART:20160623T163000Z
DTEND:20160623T180000Z
X-MICROSOFT-CDO-ALLDAYEVENT:FALSE
SUMMARY:Monthly Member Luncheon
DESCRIPTION:This month's speaker will be\, Michael Shannon from Restless Spirits Distillery.
X-ALT-DESC;FMTTYPE=text/html:This month&#39\;s speaker will be\, Michael Shannon from Restless Spirits Distillery.
LOCATION:Restless Spirits Distillery 109 E 18th Ave North Kansas City\, MO 64116
UID:e.211.4704
SEQUENCE:3
DTSTAMP:20260423T111617Z
URL:https://members.nkcbusinesscouncil.com/events/details/monthly-member-luncheon-06-23-2016-4704
END:VEVENT

END:VCALENDAR
