BEGIN:VCALENDAR
VERSION:2.0
PRODID:-//ChamberMaster//Event Calendar 2.0//EN
METHOD:PUBLISH
X-PUBLISHED-TTL:P3D
REFRESH-INTERVAL:P3D
CALSCALE:GREGORIAN
BEGIN:VEVENT
DTSTART:20160526T163000Z
DTEND:20160526T180000Z
X-MICROSOFT-CDO-ALLDAYEVENT:FALSE
SUMMARY:Monthly Member Luncheon
DESCRIPTION:This month's speaker will be\, Dee Rose of the Missouri Department of Labor.\n\nWe will also be recognizing our 2016 Mickey Finn Scholarship winners!
X-ALT-DESC;FMTTYPE=text/html:This month&#39\;s speaker will be\, Dee Rose of the Missouri Department of Labor.<br />\nWe will also be recognizing our 2016 Mickey Finn Scholarship winners!
LOCATION:Black on Burlington 1327 Burlington North Kansas City\, MO 64116
UID:e.211.4703
SEQUENCE:3
DTSTAMP:20260423T145613Z
URL:https://members.nkcbusinesscouncil.com/events/details/monthly-member-luncheon-05-26-2016-4703
END:VEVENT

END:VCALENDAR
