BEGIN:VCALENDAR
VERSION:2.0
PRODID:-//ChamberMaster//Event Calendar 2.0//EN
METHOD:PUBLISH
X-PUBLISHED-TTL:P3D
REFRESH-INTERVAL:P3D
CALSCALE:GREGORIAN
BEGIN:VEVENT
DTSTART:20170427T163000Z
DTEND:20170427T180000Z
X-MICROSOFT-CDO-ALLDAYEVENT:FALSE
SUMMARY:Monthly Member Luncheon
DESCRIPTION:This month's speaker will be Rick Worner. He will be talking about the new "One North" development in North Kansas City.
X-ALT-DESC;FMTTYPE=text/html:This month&#39\;s speaker will be Rick Worner. He will be talking about the new &quot\;One North&quot\; development in North Kansas City.
LOCATION:Black on Burlington 1327 Burlington North Kansas City\, MO 64116
UID:e.211.5169
SEQUENCE:3
DTSTAMP:20260421T235637Z
URL:https://members.nkcbusinesscouncil.com/events/details/monthly-member-luncheon-04-27-2017-5169
END:VEVENT

END:VCALENDAR
