BEGIN:VCALENDAR
VERSION:2.0
PRODID:-//ChamberMaster//Event Calendar 2.0//EN
METHOD:PUBLISH
X-PUBLISHED-TTL:P3D
REFRESH-INTERVAL:P3D
CALSCALE:GREGORIAN
BEGIN:VEVENT
DTSTART:20150423T163000Z
DTEND:20150423T180000Z
X-MICROSOFT-CDO-ALLDAYEVENT:FALSE
SUMMARY:Monthly Member Luncheon
DESCRIPTION:This month's speaker will be\, Jeff Pinkerton from MARC. Jeff will present a Special Demographics Update for North Kansas City.
X-ALT-DESC;FMTTYPE=text/html:This month&#39\;s speaker will be\, <font size="3">Jeff Pinkerton from MARC. Jeff </font><span style="mso-fareast-font-family: Calibri\; mso-fareast-theme-font: minor-latin\; mso-bidi-font-family: &quot\;Times New Roman&quot\;\; mso-ansi-language: EN-US\; mso-fareast-language: EN-US\; mso-bidi-language: AR-SA\;"><font size="3">will present a Special Demographics Update for North Kansas City.</font></span>
LOCATION:Black on Burlington 1327 Burlington North Kansas City\, MO 64116
UID:e.211.4318
SEQUENCE:3
DTSTAMP:20260424T133151Z
URL:https://members.nkcbusinesscouncil.com/events/details/monthly-member-luncheon-04-23-2015-4318
END:VEVENT

END:VCALENDAR
