BEGIN:VCALENDAR
VERSION:2.0
PRODID:-//ChamberMaster//Event Calendar 2.0//EN
METHOD:PUBLISH
X-PUBLISHED-TTL:P3D
REFRESH-INTERVAL:P3D
CALSCALE:GREGORIAN
BEGIN:VEVENT
DTSTART:20150326T163000Z
DTEND:20150326T180000Z
X-MICROSOFT-CDO-ALLDAYEVENT:FALSE
SUMMARY:Monthly Member Luncheon
DESCRIPTION:This month's luncheon will be the Annual member meeting and Board elections.\n\nIn addition\, this month's speaker will be\, Richard Groves\, of the North Kansas City Business Council & Northland CAPS Board of Directors.\n\nHe will be presenting on\, "The Disappearing Workforce and What Are We Going to Do About It?" Learn about the likely consequences of the massive\, irreversible demographic shift caused by millions of retiring baby boomers and an education system that needs to adapt to meet the needs of future employers. Also hear about some solutions that can help. This is a situation that needs community-wide attention so North Kansas City can become a "winning" community in a future zero-sum situation.
X-ALT-DESC;FMTTYPE=text/html:<span style="font-size: 12px\;"><span style="font-family: arial\;"><span style="color: rgb(0\, 0\, 0)\;">This month&#39\;s luncheon will be the Annual member meeting and Board elections.<br />\nIn addition\, this month&#39\;s speaker will be\, Richard Groves\, of the North Kansas City Business Council &amp\; Northland CAPS Board of Directors.<br />\nHe will be presenting on\, &ldquo\;</span><font color="#000000">The Disappearing Workforce and What Are We Going to Do About It?&quot\; </font></span></span><span style="font-size: 12px\;"><span style="font-family: arial\;"><font color="#000000">Learn about the likely consequences of the massive\, irreversible demographic shift caused by millions of retiring baby boomers and an education system that needs to adapt to meet the needs of future employers. Also hear about some solutions that can help. This is a situation that needs community-wide attention so North Kansas City can become a &ldquo\;winning&rdquo\; community in a future zero-sum situation. </font></span></span>
LOCATION:Black on Burlington 1327 Burlington North Kansas City\, MO 64116
UID:e.211.4317
SEQUENCE:3
DTSTAMP:20260424T133151Z
URL:https://members.nkcbusinesscouncil.com/events/details/monthly-member-luncheon-03-26-2015-4317
END:VEVENT

END:VCALENDAR
