BEGIN:VCALENDAR
VERSION:2.0
PRODID:-//ChamberMaster//Event Calendar 2.0//EN
METHOD:PUBLISH
X-PUBLISHED-TTL:P3D
REFRESH-INTERVAL:P3D
CALSCALE:GREGORIAN
BEGIN:VEVENT
DTSTART:20170323T163000Z
DTEND:20170323T180000Z
X-MICROSOFT-CDO-ALLDAYEVENT:FALSE
SUMMARY:Monthly Member Luncheon
DESCRIPTION:This month's luncheon will be sponsored by iWerx and is free to all members and their guests.\n\n\n\nREGISTRATION BY MARCH 20TH IS REQUIRED!
X-ALT-DESC;FMTTYPE=text/html:This month&#39\;s luncheon will be sponsored by iWerx and is free to all members and their guests.<br />\n<br />\n<span style="color:#FF0000\;"><strong>REGISTRATION BY MARCH 20TH IS REQUIRED!</strong></span>
LOCATION:iWerx 1520 Clay North Kansas City\, MO 64116
UID:e.211.5157
SEQUENCE:3
DTSTAMP:20260421T235636Z
URL:https://members.nkcbusinesscouncil.com/events/details/monthly-member-luncheon-03-23-2017-5157
END:VEVENT

END:VCALENDAR
