BEGIN:VCALENDAR
VERSION:2.0
PRODID:-//ChamberMaster//Event Calendar 2.0//EN
METHOD:PUBLISH
X-PUBLISHED-TTL:P3D
REFRESH-INTERVAL:P3D
CALSCALE:GREGORIAN
BEGIN:VEVENT
DTSTART:20160317T163000Z
DTEND:20160317T180000Z
X-MICROSOFT-CDO-ALLDAYEVENT:FALSE
SUMMARY:Monthly Member Luncheon
DESCRIPTION:This month's speaker will be\, Chris Kuehl of Armada Intelligence.
X-ALT-DESC;FMTTYPE=text/html:This month&#39\;s speaker will be\, Chris Kuehl of Armada Intelligence.
LOCATION:Black on Burlington 1327 Burlington North Kansas City\, MO 64116
UID:e.211.4701
SEQUENCE:3
DTSTAMP:20260423T235839Z
URL:https://members.nkcbusinesscouncil.com/events/details/monthly-member-luncheon-03-17-2016-4701
END:VEVENT

END:VCALENDAR
