BEGIN:VCALENDAR
VERSION:2.0
PRODID:-//ChamberMaster//Event Calendar 2.0//EN
METHOD:PUBLISH
X-PUBLISHED-TTL:P3D
REFRESH-INTERVAL:P3D
CALSCALE:GREGORIAN
BEGIN:VEVENT
DTSTART:20160225T173000Z
DTEND:20160225T190000Z
X-MICROSOFT-CDO-ALLDAYEVENT:FALSE
SUMMARY:Monthly Member Luncheon
DESCRIPTION:This month's speaker will be\,  Roger Dean Duncan\, author of\n\nChange Friendly Leadership.
X-ALT-DESC;FMTTYPE=text/html:This month&#39\;s speaker will be\,&nbsp\; Roger Dean Duncan\, author of<br />\n<u>Change Friendly Leadership</u>.
LOCATION:Black on Burlington 1327 Burlington North Kansas City\, MO 64116
UID:e.211.4700
SEQUENCE:3
DTSTAMP:20260424T001007Z
URL:https://members.nkcbusinesscouncil.com/events/details/monthly-member-luncheon-02-25-2016-4700
END:VEVENT

END:VCALENDAR
