BEGIN:VCALENDAR
VERSION:2.0
PRODID:-//ChamberMaster//Event Calendar 2.0//EN
METHOD:PUBLISH
X-PUBLISHED-TTL:P3D
REFRESH-INTERVAL:P3D
CALSCALE:GREGORIAN
BEGIN:VEVENT
DTSTART:20160128T173000Z
DTEND:20160128T190000Z
X-MICROSOFT-CDO-ALLDAYEVENT:FALSE
SUMMARY:Monthly Member Luncheon
DESCRIPTION:This month's speaker will be\, Jerry Nolte\, presiding Clay County Commissioner.
X-ALT-DESC;FMTTYPE=text/html:This month&#39\;s speaker will be\, Jerry Nolte\, presiding Clay County Commissioner.
LOCATION:Black on Burlington 1327 Burlington North Kansas City\, MO 64116
UID:e.211.4699
SEQUENCE:3
DTSTAMP:20260424T013829Z
URL:https://members.nkcbusinesscouncil.com/events/details/monthly-member-luncheon-01-28-2016-4699
END:VEVENT

END:VCALENDAR
