BEGIN:VCALENDAR
VERSION:2.0
PRODID:-//ChamberMaster//Event Calendar 2.0//EN
METHOD:PUBLISH
X-PUBLISHED-TTL:P3D
REFRESH-INTERVAL:P3D
CALSCALE:GREGORIAN
BEGIN:VEVENT
DTSTART:20131121T173000Z
DTEND:20131121T190000Z
X-MICROSOFT-CDO-ALLDAYEVENT:FALSE
SUMMARY:Monthly Luncheon
DESCRIPTION:Steve Montague is the owner and president of Sandler Training in Kansas City\, MO. His award winning company provides coaching\, consulting\, training\, and public and private speaking engagements on the behaviors\, attitudes\, and techniques needed to be more successful in sales\, management\, and customer service.\n\n\n\nSuccess is a process\; duplicable and replicable\, capable of producing consistent results. It isn't until you understand the Success Principles when you can begin to apply them to business networking. Learn how your attitude\, behavior and technique affect your networking results.\n\nNetworking is not selling. It's building relationships and building your business. We will offer you a different perspective on professional business networking.
X-ALT-DESC;FMTTYPE=text/html:<span style="font-family:arial\,sans-serif\;"><span style="font-size:12.0pt\;">Steve Montague is the owner and president of Sandler Training in Kansas City\, MO. His award winning company provides coaching\, consulting\, training\, and public and private speaking engagements on the behaviors\, attitudes\, and techniques needed to be more successful in sales\, management\, and customer service.</span></span><br />\n<br />\nSuccess is a process\; duplicable and replicable\, capable of producing consistent results. It isn&rsquo\;t until you understand the Success Principles when you can begin to apply them to business networking. Learn how your attitude\, behavior and technique affect your networking results.<br />\nNetworking is not selling. It&rsquo\;s building relationships and building your business. We will offer you a different perspective on professional business networking.<br />\n
LOCATION:Cinderblock Brewery 110 E. 18th Street
UID:e.211.3090
SEQUENCE:3
DTSTAMP:20260425T122556Z
URL:https://members.nkcbusinesscouncil.com/events/details/monthly-luncheon-11-21-2013-3090
END:VEVENT

END:VCALENDAR
