BEGIN:VCALENDAR
VERSION:2.0
PRODID:-//ChamberMaster//Event Calendar 2.0//EN
METHOD:PUBLISH
X-PUBLISHED-TTL:P3D
REFRESH-INTERVAL:P3D
CALSCALE:GREGORIAN
BEGIN:VEVENT
DTSTART:20131024T163000Z
DTEND:20131024T180000Z
X-MICROSOFT-CDO-ALLDAYEVENT:FALSE
SUMMARY:Monthly Luncheon
DESCRIPTION:Our speaker will be Joe Rotheli talking about the L'il Red Foundation\, the 25\,000 Mile Love Story\, and village-building in Central America.
X-ALT-DESC;FMTTYPE=text/html:Our speaker will be Joe Rotheli talking about the&nbsp\;L&#39\;il Red Foundation\, the 25\,000 Mile Love Story\, and village-building in Central America.
LOCATION:Finnigan's 503 E. 18th Street
UID:e.211.3089
SEQUENCE:3
DTSTAMP:20260425T123504Z
URL:https://members.nkcbusinesscouncil.com/events/details/monthly-luncheon-10-24-2013-3089
END:VEVENT

END:VCALENDAR
