BEGIN:VCALENDAR
VERSION:2.0
PRODID:-//ChamberMaster//Event Calendar 2.0//EN
METHOD:PUBLISH
X-PUBLISHED-TTL:P3D
REFRESH-INTERVAL:P3D
CALSCALE:GREGORIAN
BEGIN:VEVENT
DTSTART:20130926T163000Z
DTEND:20130926T180000Z
X-MICROSOFT-CDO-ALLDAYEVENT:FALSE
SUMMARY:Monthly Luncheon
DESCRIPTION:The September 26 Monthly Membership Luncheon and program of the North Kansas City Business Council will be vastly different than most months.\n\n \n\nWe have arranged to have lunch\, a short program and a tour of fabulous Sporting Park\, home of the Sporting KC soccer team\, which is currently tied for the lead in the MLS Eastern Division and was last year's winner of that division.\n\nSporting Park is a state-of-the-art stadium that offers an experience like none other! We will have a guided tour which will explore the locker rooms and exclusive premium areas\, and learn about the intricacies of Sporting Kansas City's home.\n\n \n\nHere is a link to the website of Populous\, the prominent sports venue architectural firm based in Kansas City\, about this innovative stadium. http://populous.com/project/sporting-park/ \n\n \n\nHere is what is different and what needs your attention:\n\n \n\n\n	\n		We need to give a good estimate of the number of participants by the end of the 1st week of September: September 6.\n	\n		We all need to drive or car pool the 19 miles/30 minutes to Sporting Park (midway between the NASCAR track and Nebraska Furniture Mart).\n\n \n\nPlease let us know this week or next if you would like to participate.\n\nSame price as usual for members: $20\n\nAlso open to non-members: $25\n\nSame starting time as usual: 11:30 a. m.   but you will need to start a half hour earlier to get there.\n\nSame ending time as usual: 1:00 p.m.\n\nParking will be next to the stadium in the "Sprint Plaza" and will be free.\n\nWe will provide driving suggestions to those who plan to attend.\n\n \n\nLet us know if you wish to car pool. Perhaps we can help facilitate car pool arrangements.
X-ALT-DESC;FMTTYPE=text/html:<span style="font-size:14.0pt\;">The September 26 Monthly Membership Luncheon and program of the North Kansas City Business Council will be <strong>vastly different than most months</strong>.</span><br />\n&nbsp\;<br />\n<span style="font-size:14.0pt\;">We have arranged to have lunch\, a short program and a tour of fabulous Sporting Park\, home of the Sporting KC soccer team\, which is currently tied for the lead in the MLS Eastern Division and was last year&rsquo\;s winner of that division.</span><br />\n<span style="font-size:14.0pt\;">Sporting Park is a state-of-the-art stadium that offers an experience like none other! We will have a guided tour which will explore the locker rooms and exclusive premium areas\, and&nbsp\;learn about the intricacies of Sporting Kansas City&rsquo\;s home.</span><br />\n&nbsp\;<br />\n<span style="font-size:14.0pt\;">Here is a link to the website of Populous\, the prominent sports venue architectural firm based in Kansas City\, about this innovative stadium. <a href="http://populous.com/project/sporting-park/">http://populous.com/project/sporting-park/</a> </span><br />\n&nbsp\;<br />\n<strong><span style="font-size:14.0pt\;">Here is what is different and what needs your attention:</span></strong><br />\n&nbsp\;<br />\n<ul>\n	<li>\n		<span style="font-size:14.0pt\;">We need to give a good estimate of the number of participants by the end of the 1<sup>st</sup> week of September: September 6.</span></li>\n	<li>\n		<span style="font-size:14.0pt\;">We all need to drive or car pool the 19 miles/30 minutes to Sporting Park (midway between the NASCAR track and Nebraska Furniture Mart).</span></li>\n</ul>\n&nbsp\;<br />\n<span style="background:yellow\;"><span style="font-size:14.0pt\;">Please let us know <strong>this week or next</strong> if you would like to participate.</span></span><br />\n<span style="font-size:14.0pt\;">Same price as usual for members: $20</span><br />\n<span style="font-size:14.0pt\;">Also open to non-members: $25</span><br />\n<span style="font-size:14.0pt\;">Same starting time as usual: 11:30 a. m. &ndash\; but you will need to start a half hour earlier to get there.</span><br />\n<span style="font-size:14.0pt\;">Same ending time as usual: 1:00 p.m.</span><br />\n<span style="font-size:14.0pt\;">Parking will be next to the stadium in the &ldquo\;Sprint Plaza&rdquo\; and will be free.</span><br />\n<span style="font-size:14.0pt\;">We will provide driving suggestions to those who plan to attend.</span><br />\n&nbsp\;<br />\n<span style="font-size:14.0pt\;">Let us know if you wish to car pool. Perhaps we can help facilitate car pool arrangements.</span><br />\n&nbsp\;
LOCATION:Sporting Park 1 Sporting Way\, Kansas City\, KS 66111 Please park in the Sprint Plaza area and enter at the Premium Entrance.
UID:e.211.3088
SEQUENCE:3
DTSTAMP:20260425T152124Z
URL:https://members.nkcbusinesscouncil.com/events/details/monthly-luncheon-09-26-2013-3088
END:VEVENT

END:VCALENDAR
