BEGIN:VCALENDAR
VERSION:2.0
PRODID:-//ChamberMaster//Event Calendar 2.0//EN
METHOD:PUBLISH
X-PUBLISHED-TTL:P3D
REFRESH-INTERVAL:P3D
CALSCALE:GREGORIAN
BEGIN:VEVENT
DTSTART:20130822T163000Z
DTEND:20130822T180000Z
X-MICROSOFT-CDO-ALLDAYEVENT:FALSE
SUMMARY:Monthly Luncheon
DESCRIPTION:The North Kansas City Business Council will be awarding the 2013 Recognition Awards to businesses who have made improvements to their locations here in North Kansas City.\n\nHear from the winners on the changes they have made and improvements to their businesses.\n\n\n\nInnovative Networks will be our Business Spotlight this month.
X-ALT-DESC;FMTTYPE=text/html:The North Kansas City Business Council will be awarding the 2013 Recognition Awards to businesses who have made improvements to their locations here in North Kansas City.<br />\nHear from the winners on the changes they have made and improvements to their businesses.<br />\n<br />\n<span style="font-size:14px\;"><span style="color: rgb(255\, 0\, 0)\;">Innovative Networks will be our Business Spotlight this month.</span></span>
LOCATION:Finnigan's 503 E. 18th Street
UID:e.211.3087
SEQUENCE:3
DTSTAMP:20260425T151041Z
URL:https://members.nkcbusinesscouncil.com/events/details/monthly-luncheon-08-22-2013-3087
END:VEVENT

END:VCALENDAR
