BEGIN:VCALENDAR
VERSION:2.0
PRODID:-//ChamberMaster//Event Calendar 2.0//EN
METHOD:PUBLISH
X-PUBLISHED-TTL:P3D
REFRESH-INTERVAL:P3D
CALSCALE:GREGORIAN
BEGIN:VEVENT
DTSTART:20130725T163000Z
DTEND:20130725T180000Z
X-MICROSOFT-CDO-ALLDAYEVENT:FALSE
SUMMARY:Monthly Luncheon
DESCRIPTION:This month will be the State of the City report by members of the North Kansas City City Council.
X-ALT-DESC;FMTTYPE=text/html:This month will be the State of the City report by members of the North Kansas City City Council.
LOCATION:Finnigan's 503 E. 18th Street
UID:e.211.3086
SEQUENCE:3
DTSTAMP:20260425T163413Z
URL:https://members.nkcbusinesscouncil.com/events/details/monthly-luncheon-07-25-2013-3086
END:VEVENT

END:VCALENDAR
