BEGIN:VCALENDAR
VERSION:2.0
PRODID:-//ChamberMaster//Event Calendar 2.0//EN
METHOD:PUBLISH
X-PUBLISHED-TTL:P3D
REFRESH-INTERVAL:P3D
CALSCALE:GREGORIAN
BEGIN:VEVENT
DTSTART:20130627T163000Z
DTEND:20130627T180000Z
X-MICROSOFT-CDO-ALLDAYEVENT:FALSE
SUMMARY:Monthly Luncheon
DESCRIPTION:Jim Cross from Centerpoint Properties will be our speaker this month.\n\n	\n\n	James S Cross Sr. Vice- President Joined CenterPoint in January 2001 and Manages all aspects of construction and engineering related to Conventional and complex developments. With over 30 years of experience. Mr. Cross has managed over 5.5 million SF of Development for CenterPoint Properties.\n\n	Project Experience - GSA/NNSA \, Federal Aviation Administration\, Ford Motor Company\, General Motors\, ALCOA\, Caterpillar Corporation
X-ALT-DESC;FMTTYPE=text/html:<div style="color: gray\;">\n	<span style="font-size: 11pt\;"><span style="font-family: calibri\,sans-serif\;"><span style="color: rgb(31\, 73\, 125)\;">Jim Cross from Centerpoint Properties will be our speaker this month.<br />\n	<br />\n	James S Cross Sr. Vice- President Joined CenterPoint in January 2001 and Manages all aspects of construction and engineering related to Conventional and complex developments. With over 30 years of experience. Mr. Cross has managed over 5.5 million SF of Development for CenterPoint Properties.</span></span></span><br />\n	<span style="font-size: 11pt\;"><span style="font-family: calibri\,sans-serif\;"><span style="color: rgb(31\, 73\, 125)\;">Project Experience - GSA/NNSA \, Federal Aviation Administration\, Ford Motor Company\, General Motors\, ALCOA\, Caterpillar Corporation&nbsp\; </span></span></span><br />\n	&nbsp\;</div>\n
LOCATION:Finnigan's 503 E. 18th Street
UID:e.211.3085
SEQUENCE:3
DTSTAMP:20260425T193901Z
URL:https://members.nkcbusinesscouncil.com/events/details/monthly-luncheon-06-27-2013-3085
END:VEVENT

END:VCALENDAR
