BEGIN:VCALENDAR
VERSION:2.0
PRODID:-//ChamberMaster//Event Calendar 2.0//EN
METHOD:PUBLISH
X-PUBLISHED-TTL:P3D
REFRESH-INTERVAL:P3D
CALSCALE:GREGORIAN
BEGIN:VEVENT
DTSTART:20130523T163000Z
DTEND:20130523T180000Z
X-MICROSOFT-CDO-ALLDAYEVENT:FALSE
SUMMARY:Monthly Luncheon
DESCRIPTION:We will be awarding the Mickey Finn Scholarships to winning students from North Kansas City High School.\n\n	\n\n	Clay County Sheriff Paul Vescovo will take about 10 minutes to introduce himself and to explain his goals for the Clay County Sheriff's Department.\n\n	 \n\n	Jim Hampton\, Executive Director of the Clay County Economic Development Council\, will talk about two important economic development activities for Clay County   what it means to be a Certified Work Ready Community and the creation of the Northland Access program to offer career track elective classes for Northland high school students in Advanced Manufacturing/Engineering\, Information Technology and Healthcare.
X-ALT-DESC;FMTTYPE=text/html:<p>\n	<span style="font-size: 14px\;">We will be awarding the Mickey Finn Scholarships to winning students from North Kansas City High School.<br />\n	<br />\n	<strong><span style="font-family: calibri\,sans-serif\;">Clay County Sheriff Paul Vescovo</span></strong><span style="font-family: calibri\,sans-serif\;"> will take about 10 minutes to introduce himself and to explain his goals for the Clay County Sheriff&rsquo\;s Department.</span><br />\n	&nbsp\;<br />\n	<strong><span style="font-family: calibri\,sans-serif\;">Jim Hampton\, Executive Director of the Clay County Economic Development Council</span></strong><span style="font-family: calibri\,sans-serif\;">\, will talk about two important economic development activities for Clay County &ndash\; what it means to be a Certified Work Ready Community and the creation of the Northland Access program to offer career track elective classes for Northland high school students in Advanced Manufacturing/Engineering\, Information Technology and Healthcare.</span></span><br />\n	&nbsp\;</p>\n
LOCATION:Finnigan's 503 E. 18th Street
UID:e.211.3084
SEQUENCE:3
DTSTAMP:20260425T211629Z
URL:https://members.nkcbusinesscouncil.com/events/details/monthly-luncheon-05-23-2013-3084
END:VEVENT

END:VCALENDAR
