BEGIN:VCALENDAR
VERSION:2.0
PRODID:-//ChamberMaster//Event Calendar 2.0//EN
METHOD:PUBLISH
X-PUBLISHED-TTL:P3D
REFRESH-INTERVAL:P3D
CALSCALE:GREGORIAN
BEGIN:VEVENT
DTSTART:20130425T163000Z
DTEND:20130425T180000Z
X-MICROSOFT-CDO-ALLDAYEVENT:FALSE
SUMMARY:Monthly Luncheon
DESCRIPTION:John Robinson from "Missouri Life" Magazine will be our speaker.\n\n\n\nWe know it's "Take your child to work day" and we want to encourage all our members to bring their kids along.
X-ALT-DESC;FMTTYPE=text/html:<span style="font-size: 18px\;"><span style="font-family: verdana\;">John Robinson from &quot\;Missouri Life&quot\; Magazine will be our speaker.<br />\n<br />\nWe know it&#39\;s &quot\;Take your child to work day&quot\; and we want to encourage all our members to bring their kids along. </span></span>
LOCATION:Finnigan's Banquet Venue 503 E. 18th Street
UID:e.211.3083
SEQUENCE:3
DTSTAMP:20260425T211613Z
URL:https://members.nkcbusinesscouncil.com/events/details/monthly-luncheon-04-25-2013-3083
END:VEVENT

END:VCALENDAR
