BEGIN:VCALENDAR
VERSION:2.0
PRODID:-//ChamberMaster//Event Calendar 2.0//EN
METHOD:PUBLISH
X-PUBLISHED-TTL:P3D
REFRESH-INTERVAL:P3D
CALSCALE:GREGORIAN
BEGIN:VEVENT
DTSTART:20130328T163000Z
DTEND:20130328T180000Z
X-MICROSOFT-CDO-ALLDAYEVENT:FALSE
SUMMARY:Monthly Luncheon
DESCRIPTION:Watch a presentation about and take a tour of the Kauffman Center for Performing Arts
X-ALT-DESC;FMTTYPE=text/html:<p>\n	Watch a presentation about and take a tour of the Kauffman Center for Performing Arts</p>\n
LOCATION:Kauffman Center for the Performing Arts 1601 Broadway Kansas City\, MO 64106 1601 Broadway Kansas City\, MO 64106
UID:e.211.3082
SEQUENCE:3
DTSTAMP:20260426T001322Z
URL:https://members.nkcbusinesscouncil.com/events/details/monthly-luncheon-03-28-2013-3082
END:VEVENT

END:VCALENDAR
