BEGIN:VCALENDAR
VERSION:2.0
PRODID:-//ChamberMaster//Event Calendar 2.0//EN
METHOD:PUBLISH
X-PUBLISHED-TTL:P3D
REFRESH-INTERVAL:P3D
CALSCALE:GREGORIAN
BEGIN:VEVENT
DTSTART:20130228T173000Z
DTEND:20130228T190000Z
X-MICROSOFT-CDO-ALLDAYEVENT:FALSE
SUMMARY:Monthly Luncheon
DESCRIPTION:Andy Homoly of Homoly Construction will be discussing how to "Build Green".
X-ALT-DESC;FMTTYPE=text/html:Andy Homoly of Homoly Construction will be discussing how to &quot\;Build Green&quot\;.
LOCATION:Finnigan' 503 E. 18th Street
UID:e.211.3081
SEQUENCE:3
DTSTAMP:20260426T002233Z
URL:https://members.nkcbusinesscouncil.com/events/details/monthly-luncheon-02-28-2013-3081
END:VEVENT

END:VCALENDAR
