BEGIN:VCALENDAR
VERSION:2.0
PRODID:-//ChamberMaster//Event Calendar 2.0//EN
METHOD:PUBLISH
X-PUBLISHED-TTL:P3D
REFRESH-INTERVAL:P3D
CALSCALE:GREGORIAN
BEGIN:VEVENT
DTSTART:20130124T173000Z
DTEND:20130124T190000Z
X-MICROSOFT-CDO-ALLDAYEVENT:FALSE
SUMMARY:Monthly Luncheon
DESCRIPTION:Robin Smith from Cerner will be discussing Cerner's hiring focuses and challenges in their fast-growing company.
X-ALT-DESC;FMTTYPE=text/html:Robin Smith from Cerner will be discussing Cerner&#39\;s hiring focuses and challenges in their fast-growing company.
LOCATION:Smokin' Guns BBQ & Catering 1218 Swift Avenue
UID:e.211.3045
SEQUENCE:3
DTSTAMP:20260426T013316Z
URL:https://members.nkcbusinesscouncil.com/events/details/monthly-luncheon-01-24-2013-3045
END:VEVENT

END:VCALENDAR
