BEGIN:VCALENDAR
VERSION:2.0
PRODID:-//ChamberMaster//Event Calendar 2.0//EN
METHOD:PUBLISH
X-PUBLISHED-TTL:P3D
REFRESH-INTERVAL:P3D
CALSCALE:GREGORIAN
BEGIN:VEVENT
DTSTART;VALUE=DATE:20130810
DTEND;VALUE=DATE:20130811
TRANSP:TRANSPARENT
X-MICROSOFT-CDO-ALLDAYEVENT:TRUE
SUMMARY:MOKAN Cat Show
DESCRIPTION:Purebred Cat Show\, Showcasing 40 breeds of cats\n\n6 Judging rings\, will be judging kittens\, whole cats (championship) and altered cats\, vendors\, raffle table\n\nOpen to the public to meet the cats\, meet the owners\, learn about the Cat Fancier Association\, largest organization for registered cats\n\nTheme for the show is Back to school - with a donation of school supplies there will be a $2.00 discount off adult admission to show.\n\nSchool supplies will be donated to the schools in North Kansas City
X-ALT-DESC;FMTTYPE=text/html:Purebred Cat Show\, Showcasing 40 breeds of cats<br />\n6 Judging rings\, will be judging kittens\, whole cats (championship) and altered cats\, vendors\, raffle table<br />\nOpen to the public to meet the cats\, meet the owners\, learn about the Cat Fancier Association\, largest organization for registered cats<br />\nTheme for the show is Back to school - with a donation of school supplies there will be a $2.00 discount off adult admission to show.<br />\nSchool supplies will be donated to the schools in North Kansas City<br />\n
LOCATION:Finnigan's 503 E. 18th Avenue
UID:e.211.3539
SEQUENCE:3
DTSTAMP:20260425T151052Z
URL:https://members.nkcbusinesscouncil.com/events/details/mokan-cat-show-08-10-2013-3539
END:VEVENT

END:VCALENDAR
