BEGIN:VCALENDAR
VERSION:2.0
PRODID:-//ChamberMaster//Event Calendar 2.0//EN
METHOD:PUBLISH
X-PUBLISHED-TTL:P3D
REFRESH-INTERVAL:P3D
CALSCALE:GREGORIAN
BEGIN:VEVENT
DTSTART:20150910T210000Z
DTEND:20150911T030000Z
X-MICROSOFT-CDO-ALLDAYEVENT:FALSE
SUMMARY:Mid-America Contractors Silver Anniversary
DESCRIPTION:Come celebrate Mid-America Contractor's first 25 years.
X-ALT-DESC;FMTTYPE=text/html:Come celebrate Mid-America Contractor&#39\;s first 25 years.
LOCATION:1400 Iron
UID:e.211.4654
SEQUENCE:3
DTSTAMP:20260424T072050Z
URL:https://members.nkcbusinesscouncil.com/events/details/mid-america-contractors-silver-anniversary-09-10-2015-4654
END:VEVENT

END:VCALENDAR
