BEGIN:VCALENDAR
VERSION:2.0
PRODID:-//ChamberMaster//Event Calendar 2.0//EN
METHOD:PUBLISH
X-PUBLISHED-TTL:P3D
REFRESH-INTERVAL:P3D
CALSCALE:GREGORIAN
BEGIN:VEVENT
DTSTART;VALUE=DATE:20160602
DTEND;VALUE=DATE:20160603
TRANSP:TRANSPARENT
X-MICROSOFT-CDO-ALLDAYEVENT:TRUE
SUMMARY:Mickey Finn Scholarship Golf Classic
DESCRIPTION:Join us for the 20th Annual Mickey Finn Scholarship Golf Classic.\n\nThis event provides scholarships to deserving seniors at North Kansas City High School each year.\n\nHelp us make this event our most successful yet.
X-ALT-DESC;FMTTYPE=text/html:Join us for the 20th Annual Mickey Finn Scholarship Golf Classic.<br />\nThis event provides scholarships to deserving seniors at North Kansas City High School each year.<br />\nHelp us make this event our most successful yet.
LOCATION:Tiffany Greens Golf Club 6100 NW Tiffany Springs Road Kansas City\, Missouri 64154
UID:e.211.5072
SEQUENCE:3
DTSTAMP:20260423T112902Z
URL:https://members.nkcbusinesscouncil.com/events/details/mickey-finn-scholarship-golf-classic-06-02-2016-5072
END:VEVENT

END:VCALENDAR
