BEGIN:VCALENDAR
VERSION:2.0
PRODID:-//ChamberMaster//Event Calendar 2.0//EN
METHOD:PUBLISH
X-PUBLISHED-TTL:P3D
REFRESH-INTERVAL:P3D
CALSCALE:GREGORIAN
BEGIN:VEVENT
DTSTART:20130606T150000Z
DTEND:20130607T000000Z
X-MICROSOFT-CDO-ALLDAYEVENT:FALSE
SUMMARY:Mickey Finn Golf Classic
DESCRIPTION:This is the 17th Annual Mickey Finn Scholarship Golf Classic. The event provides three scholarship to deserving Seniors at North Kansas City High School. Join us for a fun day of golf\, BBQ and helping our local High School.
X-ALT-DESC;FMTTYPE=text/html:This is the 17th Annual Mickey Finn Scholarship Golf Classic. The event provides three scholarship to deserving&nbsp\;Seniors at North Kansas City&nbsp\;High School. Join us for a fun day of golf\, BBQ and helping our local High School.
LOCATION:Tiffany Greens Golf Club 6100 NW Tiffany Springs Road Kansas City\, Missouri 64151
UID:e.211.3496
SEQUENCE:3
DTSTAMP:20260425T194704Z
URL:https://members.nkcbusinesscouncil.com/events/details/mickey-finn-golf-classic-06-06-2013-3496
END:VEVENT

END:VCALENDAR
