BEGIN:VCALENDAR
VERSION:2.0
PRODID:-//ChamberMaster//Event Calendar 2.0//EN
METHOD:PUBLISH
X-PUBLISHED-TTL:P3D
REFRESH-INTERVAL:P3D
CALSCALE:GREGORIAN
BEGIN:VEVENT
DTSTART:20121110T130000Z
DTEND:20121110T160000Z
X-MICROSOFT-CDO-ALLDAYEVENT:FALSE
SUMMARY:Men's Health Day 2012
DESCRIPTION:Men's Health Day\n\n2012\n\n \n\n \n\nWhat:   Men's Health Day. Receive these health services and screenings:\n\n\n	\n		Urology Specialists and Kansas City Urology Care will conduct digital exams. \n	\n		Prostate-Specific Antigen(PSA) screenings via a blood test. \n	\n		Blood tests to evaluate HDL\, LDL\, triglycerides\, total cholesterol and blood sugar. \n	\n		Comprehensive skin cancer screenings.\n	\n		Hearing tests. \n	\n		Foot exams.\n	\n		General Body Mass Index (BMI).\n	\n		Private consultations with health professionalscovering men's health topics. \n\n \n\nWho:            Men over 40 who want to manage their health\n\n \n\nWhen:   Saturday\, November 10\, 2012\, 7-10 a.m.\n\n       \n\nWhy:    Procrastination is one of the biggest health threats to men. Receive over six potentially life-saving tests in less than three hours. For $20 you'll receive over $200 of the most popular men's health screening tests.\n\n \n\nWhere:  North Kansas City Hospital\, First Floor\, Health Services Pavilion\, Prairie View room.\n\n \n\nHow:    Register by calling 816-691-1688. Registration is required and space is limited.\n\n \n\nContacts:       Sarah Breshears\, North Kansas City Hospital   (816) 691-5485\n\n        Cell phone   (816) 804-7145
X-ALT-DESC;FMTTYPE=text/html:<br />\n&nbsp\;<br />\n<span style="font-family: times new roman"><strong><em><span style="font-size: 18pt">Men&rsquo\;s Health Day</span></em></strong></span><br />\n<span style="font-family: times new roman"><strong><em><span style="font-size: 18pt">2012</span></em></strong></span><br />\n&nbsp\;<br />\n&nbsp\;<br />\n<span style="font-family: times new roman"><strong><span style="font-size: 11pt">What:&nbsp\;&nbsp\; </span></strong></span><span style="font-size: 11pt">Men&rsquo\;s Health Day. Receive these health services and screenings:</span><br />\n<ul>\n	<li>\n		<span style="font-size: medium"><span style="font-family: times new roman">Urology Specialists and Kansas City Urology Care will conduct digital exams. </span></span></li>\n	<li>\n		<span style="font-size: medium"><span style="font-family: times\, serif">Prostate-Specific Antigen</span></span><span style="font-family: times new roman">(PSA) screenings via a blood test. </span></li>\n	<li>\n		<span style="font-size: medium"><span style="font-family: times new roman">Blood tests to evaluate HDL\, LDL\, triglycerides\, total cholesterol and blood sugar. </span></span></li>\n	<li>\n		<span style="font-size: medium"><span style="font-family: times new roman">Comprehensive skin cancer screenings.</span></span></li>\n	<li>\n		<span style="font-size: medium"><span style="font-family: times new roman">Hearing tests. </span></span></li>\n	<li>\n		<span style="font-size: medium"><span style="font-family: times new roman">Foot exams.</span></span></li>\n	<li>\n		<span style="font-size: medium"><span style="font-family: times new roman">General Body Mass Index (BMI).</span></span></li>\n	<li>\n		<span style="font-size: medium"><span style="font-family: times new roman">Private consultations with health professionals</span></span><span style="font-size: medium"><span style="font-family: times new roman">covering men&rsquo\;s health topics. </span></span></li>\n</ul>\n&nbsp\;<br />\n<span style="font-family: times new roman"><strong><span style="font-size: 11pt">Who:&nbsp\;&nbsp\;&nbsp\;&nbsp\;&nbsp\;&nbsp\;&nbsp\;&nbsp\;&nbsp\;&nbsp\;&nbsp\; </span></strong></span><span style="font-size: 11pt">Men over 40 who want to manage their health</span><br />\n&nbsp\;<br />\n<span style="font-family: times new roman"><strong><span style="font-size: 11pt">When:&nbsp\;&nbsp\; </span></strong></span><span style="font-size: 11pt">Saturday\, November 10\, 2012\, 7-10 a.m.</span><br />\n&nbsp\;&nbsp\;&nbsp\;&nbsp\;&nbsp\;&nbsp\;&nbsp\;<br />\n<span style="font-family: times new roman"><strong><span style="font-size: 11pt">Why:&nbsp\;&nbsp\;&nbsp\; </span></strong></span><span style="font-size: 11pt">Procrastination is one of the biggest health threats to men. Receive over six potentially life-saving tests in less than three hours. For $20 you&rsquo\;ll receive over $200 of the most popular men&rsquo\;s health screening tests.</span><br />\n&nbsp\;<br />\n<span style="font-family: times new roman"><strong><span style="font-size: 11pt">Where:&nbsp\; </span></strong></span><span style="font-size: 11pt">North Kansas City Hospital\, First Floor\, Health Services Pavilion\, Prairie View room.</span><br />\n&nbsp\;<br />\n<span style="font-family: times new roman"><strong><span style="font-size: 11pt">How:&nbsp\;&nbsp\;&nbsp\; </span></strong></span><span style="font-size: 11pt">Register by calling 816-691-1688. Registration is required and space is limited.</span><br />\n&nbsp\;<br />\n<span style="font-family: times new roman"><strong><span style="font-size: 11pt">Contacts:&nbsp\;&nbsp\;&nbsp\;&nbsp\;&nbsp\;&nbsp\; </span></strong></span><span style="font-size: 11pt">Sarah Breshears\, North Kansas City Hospital &ndash\; (816) 691-5485</span><br />\n<span style="font-family: times new roman">&nbsp\;&nbsp\;&nbsp\;&nbsp\;&nbsp\;&nbsp\;&nbsp\; <span style="font-size: 11pt">Cell phone &ndash\; (816) 804-7145</span></span><br />\n&nbsp\;&nbsp\;<br />\n
LOCATION:
UID:e.211.3018
SEQUENCE:3
DTSTAMP:20260426T035722Z
URL:https://members.nkcbusinesscouncil.com/events/details/men-s-health-day-2012-11-10-2012-3018
END:VEVENT

END:VCALENDAR
