BEGIN:VCALENDAR
VERSION:2.0
PRODID:-//ChamberMaster//Event Calendar 2.0//EN
METHOD:PUBLISH
X-PUBLISHED-TTL:P3D
REFRESH-INTERVAL:P3D
CALSCALE:GREGORIAN
BEGIN:VEVENT
DTSTART:20130611T123000Z
DTEND:20130611T133000Z
X-MICROSOFT-CDO-ALLDAYEVENT:FALSE
SUMMARY:Membership Orientation
DESCRIPTION:Join us for a one-hour introduction on all the FREE ways you can use Chambermaster's new features to promote your business or event.
X-ALT-DESC;FMTTYPE=text/html:<div style="color: gray\;">\n	<div style="color: gray\;">\n		<span style="font-family: comic sans ms\;"><span style="font-size: 20px\;"><strong><span style="color: rgb(0\, 0\, 0)\;">Join us for a one-hour introduction on all the FREE ways you can use Chambermaster&#39\;s new features to promote your business or event</span>.</strong></span></span></div>\n</div>\n
LOCATION:First Watch 409 Armour
UID:e.211.3534
SEQUENCE:3
DTSTAMP:20260425T181343Z
URL:https://members.nkcbusinesscouncil.com/events/details/membership-orientation-06-11-2013-3534
END:VEVENT

END:VCALENDAR
