BEGIN:VCALENDAR
VERSION:2.0
PRODID:-//ChamberMaster//Event Calendar 2.0//EN
METHOD:PUBLISH
X-PUBLISHED-TTL:P3D
REFRESH-INTERVAL:P3D
CALSCALE:GREGORIAN
BEGIN:VEVENT
DTSTART:20130513T123000Z
DTEND:20130513T133000Z
X-MICROSOFT-CDO-ALLDAYEVENT:FALSE
SUMMARY:Membership Orientation
DESCRIPTION:Join us for a one-hour introduction on all the FREE ways you can use Chambermaster's new features to promote your business or event.
X-ALT-DESC;FMTTYPE=text/html:<strong><span style="font-family: comic sans ms\;"><span style="font-size: 20px\;">Join us for a one-hour introduction on all the FREE ways you can use Chambermaster&#39\;s new features to promote your business or event. </span></span></strong>
LOCATION:First Watch 409 Armour Road
UID:e.211.3531
SEQUENCE:3
DTSTAMP:20260425T211549Z
URL:https://members.nkcbusinesscouncil.com/events/details/membership-orientation-05-13-2013-3531
END:VEVENT

END:VCALENDAR
