BEGIN:VCALENDAR
VERSION:2.0
PRODID:-//ChamberMaster//Event Calendar 2.0//EN
METHOD:PUBLISH
X-PUBLISHED-TTL:P3D
REFRESH-INTERVAL:P3D
CALSCALE:GREGORIAN
BEGIN:VEVENT
DTSTART:20130425T213000Z
DTEND:20130425T223000Z
X-MICROSOFT-CDO-ALLDAYEVENT:FALSE
SUMMARY:Membership Orientation
DESCRIPTION:This orientation is for new and old members of the business council alike.\n\n\n\nWe will be showing how to get the most out of your membership by using all of our resources to promote your business to as many people as possible.\n\n\n\nWe will look at our Chambermaster system and how you can make the most of what it has to offer.\n\n\n\nWe will also be looking for your thoughts/suggestions on what we can do to help you.\n\n\n\nPlease call Jennifer at 472-7700 to register
X-ALT-DESC;FMTTYPE=text/html:This orientation is for new and old members of the business council alike.<br />\n<br />\nWe will be showing how to get the most out of your membership by using all of our resources to promote your business to as many people as&nbsp\;possible.<br />\n<br />\nWe will look at our Chambermaster system and how you can make the most of what it has to offer.<br />\n<br />\nWe will also be looking for your thoughts/suggestions on what we can do to help you.<br />\n<br />\nPlease call Jennifer at 472-7700 to register
LOCATION:Innovative Networks 1321 Burlington\, Suite 300
UID:e.211.3525
SEQUENCE:3
DTSTAMP:20260425T211548Z
URL:https://members.nkcbusinesscouncil.com/events/details/membership-orientation-04-25-2013-3525
END:VEVENT

END:VCALENDAR
