BEGIN:VCALENDAR
VERSION:2.0
PRODID:-//ChamberMaster//Event Calendar 2.0//EN
METHOD:PUBLISH
X-PUBLISHED-TTL:P3D
REFRESH-INTERVAL:P3D
CALSCALE:GREGORIAN
BEGIN:VEVENT
DTSTART:20121203T210000Z
DTEND:20121203T220000Z
X-MICROSOFT-CDO-ALLDAYEVENT:FALSE
SUMMARY:Membership Committee
DESCRIPTION:
X-ALT-DESC;FMTTYPE=text/html:
LOCATION:Country Club Bank 401 Armour Road
UID:e.211.3019
SEQUENCE:3
DTSTAMP:20260426T024147Z
URL:https://members.nkcbusinesscouncil.com/events/details/membership-committee-12-03-2012-3019
END:VEVENT

END:VCALENDAR
