BEGIN:VCALENDAR
VERSION:2.0
PRODID:-//ChamberMaster//Event Calendar 2.0//EN
METHOD:PUBLISH
X-PUBLISHED-TTL:P3D
REFRESH-INTERVAL:P3D
CALSCALE:GREGORIAN
BEGIN:VEVENT
DTSTART:20131007T200000Z
DTEND:20131007T210000Z
X-MICROSOFT-CDO-ALLDAYEVENT:FALSE
SUMMARY:Membership Committee
DESCRIPTION:Has been cancelled this month
X-ALT-DESC;FMTTYPE=text/html:Has been cancelled this month
LOCATION:
UID:e.211.3029
SEQUENCE:3
DTSTAMP:20260425T122551Z
URL:https://members.nkcbusinesscouncil.com/events/details/membership-committee-10-07-2013-3029
END:VEVENT

END:VCALENDAR
