BEGIN:VCALENDAR
VERSION:2.0
PRODID:-//ChamberMaster//Event Calendar 2.0//EN
METHOD:PUBLISH
X-PUBLISHED-TTL:P3D
REFRESH-INTERVAL:P3D
CALSCALE:GREGORIAN
BEGIN:VEVENT
DTSTART:20130909T200000Z
DTEND:20130909T210000Z
X-MICROSOFT-CDO-ALLDAYEVENT:FALSE
SUMMARY:Membership Committee
DESCRIPTION:Has Been Cancelled This Month.
X-ALT-DESC;FMTTYPE=text/html:Has Been Cancelled This Month.
LOCATION:Country Club Bank 401 Armour Road
UID:e.211.3028
SEQUENCE:3
DTSTAMP:20260425T140109Z
URL:https://members.nkcbusinesscouncil.com/events/details/membership-committee-09-09-2013-3028
END:VEVENT

END:VCALENDAR
