BEGIN:VCALENDAR
VERSION:2.0
PRODID:-//ChamberMaster//Event Calendar 2.0//EN
METHOD:PUBLISH
X-PUBLISHED-TTL:P3D
REFRESH-INTERVAL:P3D
CALSCALE:GREGORIAN
BEGIN:VEVENT
DTSTART:20170502T001500Z
DTEND:20170502T031500Z
X-MICROSOFT-CDO-ALLDAYEVENT:FALSE
SUMMARY:Member Day at the K
DESCRIPTION:The North Kansas City Business Council has reserved 75 seats for the\n\nMay 1st Royals vs. White Sox evening game at the K.\n\nThe seats are located in the Section 203 next to the Fountain Bar and Outfield experience above the fountains.\n\nSeats are $15 a person\, parking passes are $12 each ($3 off gate price)
X-ALT-DESC;FMTTYPE=text/html:The North Kansas City Business Council has reserved 75 seats for the<br />\nMay 1st&nbsp\;Royals vs. White Sox evening game at the K.<br />\nThe seats are located in the Section 203 next to the Fountain Bar and Outfield experience above the fountains.<br />\nSeats are $15 a person\, parking passes are $12 each ($3 off gate price)<br />\n&nbsp\;
LOCATION:Kauffman Stadium 1 Royal Way\, Kansas City\, MO 64129
UID:e.211.5177
SEQUENCE:3
DTSTAMP:20260421T165416Z
URL:https://members.nkcbusinesscouncil.com/events/details/member-day-at-the-k-5177
END:VEVENT

END:VCALENDAR
