BEGIN:VCALENDAR
VERSION:2.0
PRODID:-//ChamberMaster//Event Calendar 2.0//EN
METHOD:PUBLISH
X-PUBLISHED-TTL:P3D
REFRESH-INTERVAL:P3D
CALSCALE:GREGORIAN
BEGIN:VEVENT
DTSTART;VALUE=DATE:20160720
DTEND;VALUE=DATE:20160721
TRANSP:TRANSPARENT
X-MICROSOFT-CDO-ALLDAYEVENT:TRUE
SUMMARY:Member Day at the K
DESCRIPTION:The North Kansas City Business Council has reserved 50 seats for the July 20th Royals vs. Indians afternoon game at the K.\n\nThe seats are located in the Field Plaza sections 245 & 246.\n\nSeats are $28 a person.\n\nDiscounted $10 parking passes are available.
X-ALT-DESC;FMTTYPE=text/html:The North Kansas City Business Council has reserved 50 seats for the July 20th Royals vs. Indians afternoon game at the K.<br />\nThe seats are located in the Field Plaza sections 245 &amp\; 246.<br />\nSeats are $28 a person.<br />\nDiscounted $10 parking passes are available.
LOCATION:Kauffman Stadium 1 Royal Way\, Kansas City\, MO 64129
UID:e.211.4936
SEQUENCE:3
DTSTAMP:20260423T073137Z
URL:https://members.nkcbusinesscouncil.com/events/details/member-day-at-the-k-07-20-2016-4936
END:VEVENT

END:VCALENDAR
