BEGIN:VCALENDAR
VERSION:2.0
PRODID:-//ChamberMaster//Event Calendar 2.0//EN
METHOD:PUBLISH
X-PUBLISHED-TTL:P3D
REFRESH-INTERVAL:P3D
CALSCALE:GREGORIAN
BEGIN:VEVENT
DTSTART:20130820T123000Z
DTEND:20130820T140000Z
X-MICROSOFT-CDO-ALLDAYEVENT:FALSE
SUMMARY:Meeting on Missouri House Bill 253
DESCRIPTION:Missouri House Bill 253 would reduce income taxes for individuals and companies in the state of Missouri. The bill was passed by the House and the Senate but was vetoed by Governor Nixon.\n\nThe purpose of this meeting is to allow interested individuals to hear and present all sides of this issue.
X-ALT-DESC;FMTTYPE=text/html:Missouri House Bill 253 would reduce income taxes for individuals and companies in the state of Missouri. The bill was passed by the House and the Senate but was vetoed by Governor Nixon.<br />\nThe purpose of this meeting is to allow interested individuals to hear and present all sides of this issue.
LOCATION:Clay County EDC offices 1251 NW Briarcliff Parkway\, Suite 80 Kansas City\, MO 64116
UID:e.211.3545
SEQUENCE:3
DTSTAMP:20260425T153118Z
URL:https://members.nkcbusinesscouncil.com/events/details/meeting-on-missouri-house-bill-253-08-20-2013-3545
END:VEVENT

END:VCALENDAR
