BEGIN:VCALENDAR
VERSION:2.0
PRODID:-//ChamberMaster//Event Calendar 2.0//EN
METHOD:PUBLISH
X-PUBLISHED-TTL:P3D
REFRESH-INTERVAL:P3D
CALSCALE:GREGORIAN
BEGIN:VEVENT
DTSTART:20151118T000000Z
DTEND:20151118T013000Z
X-MICROSOFT-CDO-ALLDAYEVENT:FALSE
SUMMARY:Mayor's Tree Lighting
DESCRIPTION:Take a trip into Santa's wonderland on a magical pony\, sip some hot chocolate as Santa reads "The Night Before Christmas" and get your picture taken with him before he returns to the North Pole.
X-ALT-DESC;FMTTYPE=text/html:Take a trip into Santa&#39\;s wonderland on a magical pony\, sip some hot chocolate as Santa reads &quot\;The Night Before Christmas&quot\; and get your picture taken with him before he returns to the North Pole.
LOCATION:Macken Park (Corner of Howell & Clark Ferguson)
UID:e.211.4670
SEQUENCE:3
DTSTAMP:20260424T033411Z
URL:https://members.nkcbusinesscouncil.com/events/details/mayor-s-tree-lighting-11-17-2015-4670
END:VEVENT

END:VCALENDAR
