BEGIN:VCALENDAR
VERSION:2.0
PRODID:-//ChamberMaster//Event Calendar 2.0//EN
METHOD:PUBLISH
X-PUBLISHED-TTL:P3D
REFRESH-INTERVAL:P3D
CALSCALE:GREGORIAN
BEGIN:VEVENT
DTSTART:20160207T230000Z
DTEND:20160208T040000Z
X-MICROSOFT-CDO-ALLDAYEVENT:FALSE
SUMMARY:Mardi Gras/Super Bowl Party- Grain to Glass
DESCRIPTION:If you came to our Customer Appreciation Party on Nov. 28th\, you've heard our favorite band\, KC Raindogs.  This week\, they traveled to Memphis as Kansas City's nomination for the Solo/Duo entry in the International Blues Competition.  We've invited them to come play again for a Mardi Gras/Super Bowl Party on Sunday\, Feb. 7th.  They will be our pre-game entertainment\, with their great vocals\, washboard\, guitar\, and mandolin. Party starts at 5 PM ($10 Cover)\, and we'll offer Shrimp Creole\, Red Beans & Rice\, and Beignets ($7.50)--and of course\, some special beers.
X-ALT-DESC;FMTTYPE=text/html:<br />\n<span style="color: rgb(80\, 80\, 80)\; font-family: &quot\;Arial&quot\;\,&quot\;sans-serif&quot\;\; font-size: 10.5pt\; mso-fareast-font-family: &quot\;Times New Roman&quot\;\; mso-ansi-language: EN-US\; mso-fareast-language: EN-US\; mso-bidi-language: AR-SA\;">If you came to our Customer Appreciation Party on Nov. 28th\, you&#39\;ve heard our favorite band\, KC Raindogs. &nbsp\;This week\, they traveled to Memphis as Kansas City&#39\;s nomination for the Solo/Duo entry in the International Blues Competition. &nbsp\;We&#39\;ve invited them to come play again for a Mardi Gras/Super Bowl Party on Sunday\, Feb. 7th. &nbsp\;They will be our pre-game entertainment\, with their great vocals\, washboard\, guitar\, and mandolin. Party starts at 5 PM ($10 Cover)\, and we&#39\;ll offer Shrimp Creole\, Red Beans &amp\; Rice\, and Beignets ($7.50)--and of course\, some special beers. </span>
LOCATION:Grain to Glass 1611 Swift
UID:e.211.4831
SEQUENCE:3
DTSTAMP:20260424T001904Z
URL:https://members.nkcbusinesscouncil.com/events/details/mardi-gras-super-bowl-party-grain-to-glass-02-07-2016-4831
END:VEVENT

END:VCALENDAR
