BEGIN:VCALENDAR
VERSION:2.0
PRODID:-//ChamberMaster//Event Calendar 2.0//EN
METHOD:PUBLISH
X-PUBLISHED-TTL:P3D
REFRESH-INTERVAL:P3D
CALSCALE:GREGORIAN
BEGIN:VEVENT
DTSTART:20131010T230000Z
DTEND:20131011T020000Z
X-MICROSOFT-CDO-ALLDAYEVENT:FALSE
SUMMARY:Make It a New You - Women's Health Event at Belvior Winery
DESCRIPTION:What:   North Kansas City Hospital is hosting a fun and educational women's health event at the beautiful Belvoir Winery in Liberty\, Mo.\, Thursday\, Oct. 10\, from 6 to 9 pm. While enjoying food\, gifts and beverages\, attendees can see "The Makeover Guy\," Christopher Hopkins (as seen on Oprah\, HGTV and The Today Show) who helps people realize their ultimate image. \n\n	 \n\n	\n		\n			Watch actual makeover sessions conducted by the talented Christopher Hopkins.\n		\n			Visit with health experts from North Kansas City Hospital about how to "make over" your health.\n		\n			Talk with SmartSpirit vendors for makeover advice and consultation.\n		\n			Interact with the Hospital's fitness trainers for advice and personal planning for a health makeover\n	\n	 \n\n	Who:            Women of all ages\n\n	 \n\n	When:   October 10\, 6 to 9 p.m. $20 per person\n\n	       \n\n	Where:  Belvoir Winery\n\n	        1325 Odd Fellows Road\, Liberty\, MO 64068\n\n	 \n\n	Contacts:       Sarah Breshears\, North Kansas City Hospital   (816) 691-5485\n\n	 \n\n	 \n\n	 \n\n	Sarah L. Breshears\n\n	Marketing Services\n\n	\n\n	2800 Clay Edwards Drive\n\n	North Kansas City\, MO  64116\n\n	(816) 691-5485
X-ALT-DESC;FMTTYPE=text/html:<div style="color: gray\;">\n	&nbsp\;<br />\n	<span style="font-family: times new roman\;"><strong><span style="font-size: 11pt\;">What:&nbsp\;&nbsp\; </span></strong></span><span style="font-size: 11pt\;">North Kansas City Hospital is hosting a fun and educational women&rsquo\;s health event at the beautiful Belvoir Winery in Liberty\, Mo.\, Thursday\, Oct. 10\, from 6 to 9 pm. While enjoying food\, gifts and beverages\, attendees can see &ldquo\;</span><span style="font-size: 11pt\;"><span style="font-family: calibri\,sans-serif\;">The Makeover Guy\,&rdquo\; Christopher Hopkins (as seen on <em>Oprah\,</em> <em>HGTV </em>and <em>The Today Show)</em> who helps people realize their ultimate image. </span></span><br />\n	&nbsp\;<br />\n	<ul>\n		<li>\n			<span style="font-size: 11pt\;"><span style="font-family: calibri\,sans-serif\;">Watch actual makeover sessions conducted by the talented Christopher Hopkins.</span></span></li>\n		<li>\n			<span style="font-size: 11pt\;"><span style="font-family: calibri\,sans-serif\;">Visit with health experts from North Kansas City Hospital about how to &ldquo\;make over&rdquo\; your health.</span></span></li>\n		<li>\n			<span style="font-size: 11pt\;"><span style="font-family: calibri\,sans-serif\;">Talk with <em>SmartSpirit </em>vendors for makeover advice and consultation.</span></span></li>\n		<li>\n			<span style="font-size: 11pt\;"><span style="font-family: calibri\,sans-serif\;">Interact with the Hospital&rsquo\;s fitness trainers for advice and personal planning for a health makeover</span></span></li>\n	</ul>\n	&nbsp\;<br />\n	<span style="font-family: times new roman\;"><strong><span style="font-size: 11pt\;">Who:&nbsp\;&nbsp\;&nbsp\;&nbsp\;&nbsp\;&nbsp\;&nbsp\;&nbsp\;&nbsp\;&nbsp\;&nbsp\; </span></strong></span><span style="font-size: 11pt\;">Women of all ages</span><br />\n	&nbsp\;<br />\n	<span style="font-family: times new roman\;"><strong><span style="font-size: 11pt\;">When</span></strong></span><span style="font-size: 11pt\;">:&nbsp\;&nbsp\; October 10\, 6 to 9 p.m. $20 per person</span><br />\n	&nbsp\;&nbsp\;&nbsp\;&nbsp\;&nbsp\;&nbsp\;&nbsp\;<br />\n	<span style="font-family: times new roman\;"><strong><span style="font-size: 11pt\;">Where:&nbsp\; </span></strong></span><span style="font-size: 11pt\;">Belvoir Winery</span><br />\n	<span style="font-family: times new roman\;"><span style="font-size: 11pt\;">&nbsp\;&nbsp\;&nbsp\;&nbsp\;&nbsp\;&nbsp\;&nbsp\; 1325 Odd Fellows Road\, Liberty\, MO 64068</span></span><br />\n	&nbsp\;<br />\n	<span style="font-family: times new roman\;"><strong><span style="font-size: 11pt\;">Contacts:&nbsp\;&nbsp\;&nbsp\;&nbsp\;&nbsp\;&nbsp\; </span></strong></span><span style="font-size: 11pt\;">Sarah Breshears\, North Kansas City Hospital &ndash\; (816) 691-5485</span><br />\n	&nbsp\;<br />\n	&nbsp\;<br />\n	&nbsp\;<br />\n	<span style="font-size: 10pt\;"><span style="font-family: palatino linotype\,serif\;"><span style="color: rgb(31\, 73\, 125)\;">Sarah L. Breshears</span></span></span><br />\n	<span style="font-size: 10pt\;"><span style="font-family: palatino linotype\,serif\;"><span style="color: rgb(31\, 73\, 125)\;">Marketing Services</span></span></span><br />\n	<br />\n	<span style="font-size: 10pt\;"><span style="font-family: palatino linotype\,serif\;"><span style="color: rgb(31\, 73\, 125)\;">2800 Clay Edwards Drive</span></span></span><br />\n	<span style="font-size: 10pt\;"><span style="font-family: palatino linotype\,serif\;"><span style="color: rgb(31\, 73\, 125)\;">North Kansas City\, MO&nbsp\; 64116</span></span></span><br />\n	<span style="font-size: 10pt\;"><span style="font-family: palatino linotype\,serif\;"><span style="color: rgb(31\, 73\, 125)\;">(816) 691-5485</span></span></span><br />\n	&nbsp\;</div>\n
LOCATION:Belvoir Winery 1325 Odd Fellows Road\, Liberty\, MO 64068
UID:e.211.3537
SEQUENCE:3
DTSTAMP:20260425T124718Z
URL:https://members.nkcbusinesscouncil.com/events/details/make-it-a-new-you-women-s-health-event-at-belvior-winery-10-10-2013-3537
END:VEVENT

END:VCALENDAR
